Package: netprioR Version: 1.32.0 Command: /Library/Frameworks/R.framework/Resources/bin/R CMD build --keep-empty-dirs --no-resave-data netprioR StartedAt: 2025-02-04 04:41:17 -0500 (Tue, 04 Feb 2025) EndedAt: 2025-02-04 04:42:18 -0500 (Tue, 04 Feb 2025) EllapsedTime: 60.9 seconds RetCode: 0 Status: OK PackageFile: netprioR_1.32.0.tar.gz PackageFileSize: 541 KiB