Package: netprioR Version: 1.32.0 Command: chmod a+r netprioR -R && F:\biocbuild\bbs-3.20-bioc\R\bin\R.exe CMD build --keep-empty-dirs --no-resave-data netprioR StartedAt: 2025-01-30 20:33:46 -0500 (Thu, 30 Jan 2025) EndedAt: 2025-01-30 20:34:37 -0500 (Thu, 30 Jan 2025) EllapsedTime: 51.3 seconds RetCode: 0 Status: OK PackageFile: netprioR_1.32.0.tar.gz PackageFileSize: 417.6 KiB