Package: netresponse Version: 1.66.0 Command: rm -rf netresponse.buildbin-libdir && mkdir netresponse.buildbin-libdir && /Users/biocbuild/BBS/utils/build-universal.sh netresponse_1.66.0.tar.gz /Library/Frameworks/R.framework/Resources/bin/R netresponse.buildbin-libdir StartedAt: 2025-02-01 16:01:07 -0500 (Sat, 01 Feb 2025) EndedAt: 2025-02-01 16:01:22 -0500 (Sat, 01 Feb 2025) EllapsedTime: 14.5 seconds RetCode: 0 Status: OK PackageFile: netresponse_1.66.0.tgz PackageFileSize: 1.288 MiB