Package: netresponse Version: 1.66.0 Command: /Library/Frameworks/R.framework/Resources/bin/R CMD check --install=check:netresponse.install-out.txt --library=/Library/Frameworks/R.framework/Resources/library --no-vignettes --timings netresponse_1.66.0.tar.gz StartedAt: 2025-02-01 03:12:18 -0500 (Sat, 01 Feb 2025) EndedAt: 2025-02-01 03:13:42 -0500 (Sat, 01 Feb 2025) EllapsedTime: 84.5 seconds RetCode: 0 Status: OK CheckDir: netresponse.Rcheck Warnings: 0