Package: netresponse Version: 1.66.0 Command: /Library/Frameworks/R.framework/Resources/bin/R CMD INSTALL netresponse StartedAt: 2025-01-30 18:00:51 -0500 (Thu, 30 Jan 2025) EndedAt: 2025-01-30 18:01:04 -0500 (Thu, 30 Jan 2025) EllapsedTime: 12.6 seconds RetCode: 0 Status: OK