Package: netresponse Version: 1.66.0 Command: rm -rf netresponse.buildbin-libdir && mkdir netresponse.buildbin-libdir && /Users/biocbuild/BBS/utils/build-universal.sh netresponse_1.66.0.tar.gz /Library/Frameworks/R.framework/Resources/bin/R netresponse.buildbin-libdir StartedAt: 2025-01-31 13:17:20 -0500 (Fri, 31 Jan 2025) EndedAt: 2025-01-31 13:17:48 -0500 (Fri, 31 Jan 2025) EllapsedTime: 27.7 seconds RetCode: 0 Status: OK PackageFile: netresponse_1.66.0.tgz PackageFileSize: 1.289 MiB