Package: netresponse Version: 1.66.0 Command: /Library/Frameworks/R.framework/Resources/bin/R CMD build --keep-empty-dirs --no-resave-data netresponse StartedAt: 2025-01-30 21:24:29 -0500 (Thu, 30 Jan 2025) EndedAt: 2025-01-30 21:25:13 -0500 (Thu, 30 Jan 2025) EllapsedTime: 43.8 seconds RetCode: 0 Status: OK PackageFile: netresponse_1.66.0.tar.gz PackageFileSize: 975.5 KiB