Package: netresponse Version: 1.66.0 Command: /Library/Frameworks/R.framework/Resources/bin/R CMD check --install=check:netresponse.install-out.txt --library=/Library/Frameworks/R.framework/Resources/library --no-vignettes --timings netresponse_1.66.0.tar.gz StartedAt: 2025-01-31 07:18:01 -0500 (Fri, 31 Jan 2025) EndedAt: 2025-01-31 07:20:37 -0500 (Fri, 31 Jan 2025) EllapsedTime: 156.1 seconds RetCode: 0 Status: OK CheckDir: netresponse.Rcheck Warnings: 0