Package: netresponse Version: 1.66.0 Command: /home/biocbuild/bbs-3.20-bioc/R/bin/R CMD build --keep-empty-dirs --no-resave-data --md5 netresponse StartedAt: 2025-01-30 18:20:29 -0500 (Thu, 30 Jan 2025) EndedAt: 2025-01-30 18:20:41 -0500 (Thu, 30 Jan 2025) EllapsedTime: 12.0 seconds RetCode: 0 Status: OK PackageFile: netresponse_1.66.0.tar.gz PackageFileSize: 981.2 KiB