Package: netresponse Version: 1.66.0 Command: /home/biocbuild/bbs-3.20-bioc/R/bin/R CMD INSTALL netresponse StartedAt: 2025-01-30 15:56:36 -0500 (Thu, 30 Jan 2025) EndedAt: 2025-01-30 15:56:46 -0500 (Thu, 30 Jan 2025) EllapsedTime: 10.2 seconds RetCode: 0 Status: OK