Package: netresponse Version: 1.66.0 Command: rm -rf netresponse.buildbin-libdir && mkdir netresponse.buildbin-libdir && F:\biocbuild\bbs-3.20-bioc\R\bin\R.exe CMD INSTALL --build --library=netresponse.buildbin-libdir netresponse_1.66.0.tar.gz StartedAt: 2025-01-31 09:10:43 -0500 (Fri, 31 Jan 2025) EndedAt: 2025-01-31 09:11:43 -0500 (Fri, 31 Jan 2025) EllapsedTime: 59.6 seconds RetCode: 0 Status: OK PackageFile: netresponse_1.66.0.zip PackageFileSize: 1.297 MiB