Package: netresponse Version: 1.66.0 Command: chmod a+r netresponse -R && F:\biocbuild\bbs-3.20-bioc\R\bin\R.exe CMD build --keep-empty-dirs --no-resave-data netresponse StartedAt: 2025-01-30 20:33:52 -0500 (Thu, 30 Jan 2025) EndedAt: 2025-01-30 20:34:35 -0500 (Thu, 30 Jan 2025) EllapsedTime: 42.4 seconds RetCode: 0 Status: OK PackageFile: netresponse_1.66.0.tar.gz PackageFileSize: 975.6 KiB