Package: netresponse Version: 1.66.0 Command: /home/biocbuild/R/R/bin/R CMD build --keep-empty-dirs --no-resave-data netresponse StartedAt: 2025-01-31 01:21:58 -0000 (Fri, 31 Jan 2025) EndedAt: 2025-01-31 01:22:14 -0000 (Fri, 31 Jan 2025) EllapsedTime: 16.0 seconds RetCode: 0 Status: OK PackageFile: netresponse_1.66.0.tar.gz PackageFileSize: 999.4 KiB