Package: netresponse Version: 1.66.0 Command: /home/biocbuild/R/R/bin/R CMD INSTALL netresponse StartedAt: 2025-01-30 21:02:37 -0000 (Thu, 30 Jan 2025) EndedAt: 2025-01-30 21:02:49 -0000 (Thu, 30 Jan 2025) EllapsedTime: 12.5 seconds RetCode: 0 Status: OK