Package: ngsReports Version: 2.8.0 Command: rm -rf ngsReports.buildbin-libdir && mkdir ngsReports.buildbin-libdir && /Users/biocbuild/BBS/utils/build-universal.sh ngsReports_2.8.0.tar.gz /Library/Frameworks/R.framework/Resources/bin/R ngsReports.buildbin-libdir StartedAt: 2025-02-05 16:57:17 -0500 (Wed, 05 Feb 2025) EndedAt: 2025-02-05 16:57:42 -0500 (Wed, 05 Feb 2025) EllapsedTime: 24.9 seconds RetCode: 0 Status: OK PackageFile: ngsReports_2.8.0.tgz PackageFileSize: 3.797 MiB