Package: ngsReports Version: 2.8.0 Command: rm -rf ngsReports.buildbin-libdir && mkdir ngsReports.buildbin-libdir && F:\biocbuild\bbs-3.20-bioc\R\bin\R.exe CMD INSTALL --build --library=ngsReports.buildbin-libdir ngsReports_2.8.0.tar.gz StartedAt: 2025-02-04 09:04:19 -0500 (Tue, 04 Feb 2025) EndedAt: 2025-02-04 09:06:01 -0500 (Tue, 04 Feb 2025) EllapsedTime: 102.1 seconds RetCode: 0 Status: OK PackageFile: ngsReports_2.8.0.zip PackageFileSize: 2.22 MiB