Package: ngsReports Version: 2.8.0 Command: chmod a+r ngsReports -R && F:\biocbuild\bbs-3.20-bioc\R\bin\R.exe CMD build --keep-empty-dirs --no-resave-data ngsReports StartedAt: 2025-02-03 20:49:52 -0500 (Mon, 03 Feb 2025) EndedAt: 2025-02-03 20:51:48 -0500 (Mon, 03 Feb 2025) EllapsedTime: 115.6 seconds RetCode: 0 Status: OK PackageFile: ngsReports_2.8.0.tar.gz PackageFileSize: 1.602 MiB