Package: ngsReports Version: 2.8.0 Command: F:\biocbuild\bbs-3.20-bioc\R\bin\R.exe CMD check --no-multiarch --install=check:ngsReports.install-out.txt --library=F:\biocbuild\bbs-3.20-bioc\R\library --no-vignettes --timings ngsReports_2.8.0.tar.gz StartedAt: 2025-02-04 04:24:18 -0500 (Tue, 04 Feb 2025) EndedAt: 2025-02-04 04:28:17 -0500 (Tue, 04 Feb 2025) EllapsedTime: 238.9 seconds RetCode: 0 Status: OK CheckDir: ngsReports.Rcheck Warnings: 0