Package: nondetects Version: 2.36.0 Command: /Library/Frameworks/R.framework/Resources/bin/R CMD check --install=check:nondetects.install-out.txt --library=/Library/Frameworks/R.framework/Resources/library --no-vignettes --timings nondetects_2.36.0.tar.gz StartedAt: 2025-02-05 04:01:42 -0500 (Wed, 05 Feb 2025) EndedAt: 2025-02-05 04:07:16 -0500 (Wed, 05 Feb 2025) EllapsedTime: 333.5 seconds RetCode: 0 Status: OK CheckDir: nondetects.Rcheck Warnings: 0