Package: nondetects Version: 2.36.0 Command: /Library/Frameworks/R.framework/Resources/bin/R CMD INSTALL nondetects StartedAt: 2025-02-03 15:23:50 -0500 (Mon, 03 Feb 2025) EndedAt: 2025-02-03 15:24:01 -0500 (Mon, 03 Feb 2025) EllapsedTime: 10.4 seconds RetCode: 0 Status: OK