Package: nondetects Version: 2.36.0 Command: rm -rf nondetects.buildbin-libdir && mkdir nondetects.buildbin-libdir && /Users/biocbuild/BBS/utils/build-universal.sh nondetects_2.36.0.tar.gz /Library/Frameworks/R.framework/Resources/bin/R nondetects.buildbin-libdir StartedAt: 2025-02-04 13:38:33 -0500 (Tue, 04 Feb 2025) EndedAt: 2025-02-04 13:39:03 -0500 (Tue, 04 Feb 2025) EllapsedTime: 29.8 seconds RetCode: 0 Status: OK PackageFile: nondetects_2.36.0.tgz PackageFileSize: 171.8 KiB