Package: nondetects Version: 2.36.0 Command: /Library/Frameworks/R.framework/Resources/bin/R CMD build --keep-empty-dirs --no-resave-data nondetects StartedAt: 2025-02-03 20:54:23 -0500 (Mon, 03 Feb 2025) EndedAt: 2025-02-03 21:01:57 -0500 (Mon, 03 Feb 2025) EllapsedTime: 453.6 seconds RetCode: 0 Status: OK PackageFile: nondetects_2.36.0.tar.gz PackageFileSize: 136.3 KiB