Package: nondetects Version: 2.36.0 Command: chmod a+r nondetects -R && F:\biocbuild\bbs-3.20-bioc\R\bin\R.exe CMD build --keep-empty-dirs --no-resave-data nondetects StartedAt: 2025-02-10 20:44:11 -0500 (Mon, 10 Feb 2025) EndedAt: 2025-02-10 20:47:43 -0500 (Mon, 10 Feb 2025) EllapsedTime: 211.7 seconds RetCode: 0 Status: OK PackageFile: nondetects_2.36.0.tar.gz PackageFileSize: 112.1 KiB