Package: nondetects Version: 2.36.0 Command: /home/biocbuild/R/R/bin/R CMD check --install=check:nondetects.install-out.txt --library=/home/biocbuild/R/R/site-library --no-vignettes --timings nondetects_2.36.0.tar.gz StartedAt: 2025-02-11 08:42:57 -0000 (Tue, 11 Feb 2025) EndedAt: 2025-02-11 08:52:14 -0000 (Tue, 11 Feb 2025) EllapsedTime: 556.9 seconds RetCode: 0 Status: OK CheckDir: nondetects.Rcheck Warnings: 0