Package: normalize450K Version: 1.34.0 Command: /Library/Frameworks/R.framework/Resources/bin/R CMD build --keep-empty-dirs --no-resave-data normalize450K StartedAt: 2025-02-04 04:47:45 -0500 (Tue, 04 Feb 2025) EndedAt: 2025-02-04 04:48:20 -0500 (Tue, 04 Feb 2025) EllapsedTime: 34.8 seconds RetCode: 0 Status: OK PackageFile: normalize450K_1.34.0.tar.gz PackageFileSize: 3.138 MiB