Package: normalize450K
Version: 1.34.0
Command: /home/biocbuild/R/R/bin/R CMD check --install=check:normalize450K.install-out.txt --library=/home/biocbuild/R/R/site-library --no-vignettes --timings normalize450K_1.34.0.tar.gz
StartedAt: 2024-11-20 10:32:17 -0000 (Wed, 20 Nov 2024)
EndedAt: 2024-11-20 10:33:03 -0000 (Wed, 20 Nov 2024)
EllapsedTime: 46.1 seconds
RetCode: 0
Status: OK
CheckDir: normalize450K.Rcheck
Warnings: 0