Package: normalize450K
Version: 1.34.0
Command: rm -rf normalize450K.buildbin-libdir && mkdir normalize450K.buildbin-libdir && /Users/biocbuild/BBS/utils/build-universal.sh normalize450K_1.34.0.tar.gz /Library/Frameworks/R.framework/Resources/bin/R normalize450K.buildbin-libdir
StartedAt: 2024-11-20 04:40:20 -0500 (Wed, 20 Nov 2024)
EndedAt: 2024-11-20 04:40:46 -0500 (Wed, 20 Nov 2024)
EllapsedTime: 25.3 seconds
RetCode: 0
Status: OK
PackageFile: normalize450K_1.34.0.tgz
PackageFileSize: 3.138 <A href="http://en.wikipedia.org/wiki/MiB" target="_blank">MiB</A>