Package: normalize450K
Version: 1.34.0
Command: /home/biocbuild/bbs-3.20-bioc/R/bin/R CMD INSTALL normalize450K
StartedAt: 2024-11-19 15:41:19 -0500 (Tue, 19 Nov 2024)
EndedAt: 2024-11-19 15:41:31 -0500 (Tue, 19 Nov 2024)
EllapsedTime: 12.4 seconds
RetCode: 0
Status: OK