Package: normr Version: 1.32.0 Command: rm -rf normr.buildbin-libdir && mkdir normr.buildbin-libdir && /Users/biocbuild/BBS/utils/build-universal.sh normr_1.32.0.tar.gz /Library/Frameworks/R.framework/Resources/bin/R normr.buildbin-libdir StartedAt: 2025-02-05 16:58:06 -0500 (Wed, 05 Feb 2025) EndedAt: 2025-02-05 16:59:03 -0500 (Wed, 05 Feb 2025) EllapsedTime: 56.6 seconds RetCode: 0 Status: OK PackageFile: normr_1.32.0.tgz PackageFileSize: 4.197 MiB