Package: normr Version: 1.32.0 Command: /Library/Frameworks/R.framework/Resources/bin/R CMD build --keep-empty-dirs --no-resave-data normr StartedAt: 2025-02-04 04:48:51 -0500 (Tue, 04 Feb 2025) EndedAt: 2025-02-04 04:50:29 -0500 (Tue, 04 Feb 2025) EllapsedTime: 98.3 seconds RetCode: 0 Status: OK PackageFile: normr_1.32.0.tar.gz PackageFileSize: 3.779 MiB