Package: normr Version: 1.32.0 Command: rm -rf normr.buildbin-libdir && mkdir normr.buildbin-libdir && /Users/biocbuild/BBS/utils/build-universal.sh normr_1.32.0.tar.gz /Library/Frameworks/R.framework/Resources/bin/R normr.buildbin-libdir StartedAt: 2025-02-04 13:39:03 -0500 (Tue, 04 Feb 2025) EndedAt: 2025-02-04 13:41:42 -0500 (Tue, 04 Feb 2025) EllapsedTime: 158.8 seconds RetCode: 0 Status: OK PackageFile: normr_1.32.0.tgz PackageFileSize: 4.178 MiB