Package: normr Version: 1.32.0 Command: /Library/Frameworks/R.framework/Resources/bin/R CMD build --keep-empty-dirs --no-resave-data normr StartedAt: 2025-02-03 20:55:55 -0500 (Mon, 03 Feb 2025) EndedAt: 2025-02-03 20:58:50 -0500 (Mon, 03 Feb 2025) EllapsedTime: 174.1 seconds RetCode: 0 Status: OK PackageFile: normr_1.32.0.tar.gz PackageFileSize: 3.76 MiB