Package: normr Version: 1.32.0 Command: /Library/Frameworks/R.framework/Resources/bin/R CMD INSTALL normr StartedAt: 2025-02-03 15:39:12 -0500 (Mon, 03 Feb 2025) EndedAt: 2025-02-03 15:40:44 -0500 (Mon, 03 Feb 2025) EllapsedTime: 91.9 seconds RetCode: 0 Status: OK