Package: normr Version: 1.32.0 Command: chmod a+r normr -R && F:\biocbuild\bbs-3.20-bioc\R\bin\R.exe CMD build --keep-empty-dirs --no-resave-data normr StartedAt: 2025-02-03 20:51:30 -0500 (Mon, 03 Feb 2025) EndedAt: 2025-02-03 20:53:31 -0500 (Mon, 03 Feb 2025) EllapsedTime: 120.9 seconds RetCode: 0 Status: OK PackageFile: normr_1.32.0.tar.gz PackageFileSize: 2.935 MiB