Package: normr Version: 1.32.0 Command: /home/biocbuild/R/R/bin/R CMD INSTALL normr StartedAt: 2025-02-03 20:39:25 -0000 (Mon, 03 Feb 2025) EndedAt: 2025-02-03 20:40:26 -0000 (Mon, 03 Feb 2025) EllapsedTime: 60.9 seconds RetCode: 0 Status: OK