Package: npGSEA Version: 1.42.0 Command: rm -rf npGSEA.buildbin-libdir && mkdir npGSEA.buildbin-libdir && /Users/biocbuild/BBS/utils/build-universal.sh npGSEA_1.42.0.tar.gz /Library/Frameworks/R.framework/Resources/bin/R npGSEA.buildbin-libdir StartedAt: 2025-02-05 16:58:21 -0500 (Wed, 05 Feb 2025) EndedAt: 2025-02-05 16:58:42 -0500 (Wed, 05 Feb 2025) EllapsedTime: 21.6 seconds RetCode: 0 Status: OK PackageFile: npGSEA_1.42.0.tgz PackageFileSize: 696.6 KiB