Package: npGSEA Version: 1.42.0 Command: rm -rf npGSEA.buildbin-libdir && mkdir npGSEA.buildbin-libdir && /Users/biocbuild/BBS/utils/build-universal.sh npGSEA_1.42.0.tar.gz /Library/Frameworks/R.framework/Resources/bin/R npGSEA.buildbin-libdir StartedAt: 2025-02-18 12:40:11 -0500 (Tue, 18 Feb 2025) EndedAt: 2025-02-18 12:40:52 -0500 (Tue, 18 Feb 2025) EllapsedTime: 41.1 seconds RetCode: 0 Status: OK PackageFile: npGSEA_1.42.0.tgz PackageFileSize: 696.6 <A href="http://en.wikipedia.org/wiki/KiB" target="_blank">KiB</A>