Package: npGSEA Version: 1.42.0 Command: /Library/Frameworks/R.framework/Resources/bin/R CMD INSTALL npGSEA StartedAt: 2025-02-03 15:42:08 -0500 (Mon, 03 Feb 2025) EndedAt: 2025-02-03 15:42:48 -0500 (Mon, 03 Feb 2025) EllapsedTime: 39.8 seconds RetCode: 0 Status: OK