Package: nuCpos Version: 1.24.0 Command: /home/biocbuild/bbs-3.20-bioc/R/bin/R CMD check --install=check:nuCpos.install-out.txt --library=/home/biocbuild/bbs-3.20-bioc/R/site-library --timings nuCpos_1.24.0.tar.gz StartedAt: 2025-02-04 00:47:40 -0500 (Tue, 04 Feb 2025) EndedAt: 2025-02-04 00:48:14 -0500 (Tue, 04 Feb 2025) EllapsedTime: 34.1 seconds RetCode: 0 Status: OK CheckDir: nuCpos.Rcheck Warnings: 0