Package: nuCpos Version: 1.24.0 Command: /home/biocbuild/R/R/bin/R CMD build --keep-empty-dirs --no-resave-data nuCpos StartedAt: 2025-02-04 01:28:41 -0000 (Tue, 04 Feb 2025) EndedAt: 2025-02-04 01:29:01 -0000 (Tue, 04 Feb 2025) EllapsedTime: 20.0 seconds RetCode: 0 Status: OK PackageFile: nuCpos_1.24.0.tar.gz PackageFileSize: 2.386 MiB