Package: nucleR Version: 2.38.0 Command: /Library/Frameworks/R.framework/Resources/bin/R CMD build --keep-empty-dirs --no-resave-data nucleR StartedAt: 2025-02-04 04:49:58 -0500 (Tue, 04 Feb 2025) EndedAt: 2025-02-04 04:51:27 -0500 (Tue, 04 Feb 2025) EllapsedTime: 88.9 seconds RetCode: 0 Status: OK PackageFile: nucleR_2.38.0.tar.gz PackageFileSize: 1.821 MiB