Package: nucleR Version: 2.38.0 Command: /Library/Frameworks/R.framework/Resources/bin/R CMD check --install=check:nucleR.install-out.txt --library=/Library/Frameworks/R.framework/Resources/library --no-vignettes --timings nucleR_2.38.0.tar.gz StartedAt: 2025-02-05 04:08:00 -0500 (Wed, 05 Feb 2025) EndedAt: 2025-02-05 04:13:12 -0500 (Wed, 05 Feb 2025) EllapsedTime: 312.7 seconds RetCode: 0 Status: WARNINGS CheckDir: nucleR.Rcheck Warnings: 1