Package: nucleR Version: 2.38.0 Command: /Library/Frameworks/R.framework/Resources/bin/R CMD INSTALL nucleR StartedAt: 2025-02-03 16:11:01 -0500 (Mon, 03 Feb 2025) EndedAt: 2025-02-03 16:11:43 -0500 (Mon, 03 Feb 2025) EllapsedTime: 41.9 seconds RetCode: 0 Status: OK