Package: nucleR
Version: 2.38.0
Command: /Library/Frameworks/R.framework/Resources/bin/R CMD build --keep-empty-dirs --no-resave-data nucleR
StartedAt: 2024-11-19 17:55:31 -0500 (Tue, 19 Nov 2024)
EndedAt: 2024-11-19 17:57:43 -0500 (Tue, 19 Nov 2024)
EllapsedTime: 131.1 seconds
RetCode: 0
Status: OK
PackageFile: nucleR_2.38.0.tar.gz
PackageFileSize: 1.826 <A href="http://en.wikipedia.org/wiki/MiB" target="_blank">MiB</A>