Package: nucleR Version: 2.38.0 Command: rm -rf nucleR.buildbin-libdir && mkdir nucleR.buildbin-libdir && /Users/biocbuild/BBS/utils/build-universal.sh nucleR_2.38.0.tar.gz /Library/Frameworks/R.framework/Resources/bin/R nucleR.buildbin-libdir StartedAt: 2025-02-04 13:39:31 -0500 (Tue, 04 Feb 2025) EndedAt: 2025-02-04 13:41:26 -0500 (Tue, 04 Feb 2025) EllapsedTime: 115.1 seconds RetCode: 0 Status: OK PackageFile: nucleR_2.38.0.tgz PackageFileSize: 1.939 MiB