Package: nucleR Version: 2.38.0 Command: /Library/Frameworks/R.framework/Resources/bin/R CMD build --keep-empty-dirs --no-resave-data nucleR StartedAt: 2025-02-03 20:56:47 -0500 (Mon, 03 Feb 2025) EndedAt: 2025-02-03 20:59:37 -0500 (Mon, 03 Feb 2025) EllapsedTime: 169.7 seconds RetCode: 0 Status: OK PackageFile: nucleR_2.38.0.tar.gz PackageFileSize: 1.833 MiB