Package: nucleR
Version: 2.37.0
Command: rm -rf nucleR.buildbin-libdir && mkdir nucleR.buildbin-libdir && F:\biocbuild\bbs-3.20-bioc\R\bin\R.exe CMD INSTALL --build --library=nucleR.buildbin-libdir nucleR_2.37.0.tar.gz
StartedAt: 2024-06-10 14:26:27 -0400 (Mon, 10 Jun 2024)
EndedAt: 2024-06-10 14:28:22 -0400 (Mon, 10 Jun 2024)
EllapsedTime: 115.0 seconds
RetCode: 0
Status: OK
PackageFile: nucleR_2.37.0.zip
PackageFileSize: 1.287 <A href="http://en.wikipedia.org/wiki/MiB" target="_blank">MiB</A>