Package: nucleR Version: 2.38.0 Command: rm -rf nucleR.buildbin-libdir && mkdir nucleR.buildbin-libdir && F:\biocbuild\bbs-3.20-bioc\R\bin\R.exe CMD INSTALL --build --library=nucleR.buildbin-libdir nucleR_2.38.0.tar.gz StartedAt: 2025-02-04 09:05:08 -0500 (Tue, 04 Feb 2025) EndedAt: 2025-02-04 09:06:03 -0500 (Tue, 04 Feb 2025) EllapsedTime: 54.8 seconds RetCode: 0 Status: OK PackageFile: nucleR_2.38.0.zip PackageFileSize: 1.288 MiB