Package: nucleR Version: 2.38.0 Command: /home/biocbuild/R/R/bin/R CMD INSTALL nucleR StartedAt: 2025-02-03 20:47:22 -0000 (Mon, 03 Feb 2025) EndedAt: 2025-02-03 20:48:07 -0000 (Mon, 03 Feb 2025) EllapsedTime: 44.4 seconds RetCode: 0 Status: OK