Package: nullranges
Version: 1.11.0
Command: rm -rf nullranges.buildbin-libdir && mkdir nullranges.buildbin-libdir && C:\Users\biocbuild\bbs-3.20-bioc\R\bin\R.exe CMD INSTALL --build --library=nullranges.buildbin-libdir nullranges_1.11.0.tar.gz
StartedAt: 2024-07-04 05:26:29 -0400 (Thu, 04 Jul 2024)
EndedAt: 2024-07-04 05:27:11 -0400 (Thu, 04 Jul 2024)
EllapsedTime: 42.7 seconds
RetCode: 0
Status: OK
PackageFile: nullranges_1.11.0.zip
PackageFileSize: 3.617 <A href="http://en.wikipedia.org/wiki/MiB" target="_blank">MiB</A>